BEGIN:VCALENDAR
PRODID:-//Feedo Feed//NONSGML v1.0//EN
VERSION:2.0
CALSCALE:GREGORIAN
METHOD:PUBLISH
X-WR-CALNAME:2017 Photo Competition Exhibition
X-WR-CALDESC:
X-MS-OLK-FORCEINSPECTOROPEN:TRUE
BEGIN:VEVENT
DTSTAMP:20180120T155719Z
DTSTART:20170325T090000Z
DTEND:20170325T130000Z
TRANSP:TRANSPARENT
UID:842017-03-25
SUMMARY:2017 Photo Competition Exhibition
DESCRIPTION:
URL:http://beachhaven.org.nz/index.php/events-list/2017-photo-competition-exhibition?format=html
CATEGORIES:Community Event
GEO:-36.7927402;174.6873531
LOCATION:Beach Haven Hall
END:VEVENT
END:VCALENDAR