BEGIN:VCALENDAR
PRODID:-//Feedo Feed//NONSGML v1.0//EN
VERSION:2.0
CALSCALE:GREGORIAN
METHOD:PUBLISH
X-WR-CALNAME:August Monthly Meeting
X-WR-CALDESC:
X-MS-OLK-FORCEINSPECTOROPEN:TRUE
BEGIN:VEVENT
DTSTAMP:20180120T155738Z
DTSTART:20170814T180000Z
DTEND:20170814T180000Z
TRANSP:TRANSPARENT
UID:782017-08-14
SUMMARY:August Monthly Meeting
DESCRIPTION:
URL:http://beachhaven.org.nz/index.php/events-list/august-monthly-meeting?format=html
CATEGORIES:BBRA Monthly Meeting
GEO:-36.7927402;174.6873531
LOCATION:Beach Haven Hall
END:VEVENT
END:VCALENDAR