BEGIN:VCALENDAR
PRODID:-//Feedo Feed//NONSGML v1.0//EN
VERSION:2.0
CALSCALE:GREGORIAN
METHOD:PUBLISH
X-WR-CALNAME:Beach Haven Birkdale Residents Association Photo Exhibition
X-WR-CALDESC:Exhibiting entries from this years Beach Haven Birkdale Residents Association Photo Competition themed My Beach Haven - Life in Beach Haven & Birkdale through the lens.\nEntry to the exhibition is free and is open from 10am to 2pm on Saturday the 12th of March at Beach Haven Hall off Rangitira Road.\nCome and see photos from the community featuring the communtiy.
X-MS-OLK-FORCEINSPECTOROPEN:TRUE
BEGIN:VEVENT
DTSTAMP:20180120T155644Z
DTSTART:20160312T090000Z
DTEND:20160312T130000Z
TRANSP:TRANSPARENT
UID:682016-03-12
SUMMARY:Beach Haven Birkdale Residents Association Photo Exhibition
DESCRIPTION:Exhibiting entries from this years Beach Haven Birkdale Residents Association Photo Competition themed My Beach Haven - Life in Beach Haven & Birkdale through the lens.\nEntry to the exhibition is free and is open from 10am to 2pm on Saturday the 12th of March at Beach Haven Hall off Rangitira Road.\nCome and see photos from the community featuring the communtiy.
URL:http://beachhaven.org.nz/index.php/events-list/beach-haven-birkdale-residents-association-photo-exhibition?format=html
CATEGORIES:Community Event
GEO:-36.7927402;174.6873531
LOCATION:Beach Haven Hall
END:VEVENT
END:VCALENDAR