BEGIN:VCALENDAR
PRODID:-//Feedo Feed//NONSGML v1.0//EN
VERSION:2.0
CALSCALE:GREGORIAN
METHOD:PUBLISH
X-WR-CALNAME:May Monthly Meeting
X-WR-CALDESC:
X-MS-OLK-FORCEINSPECTOROPEN:TRUE
BEGIN:VEVENT
DTSTAMP:20180120T155656Z
DTSTART:20160509T180000Z
DTEND:20160509T180000Z
TRANSP:TRANSPARENT
UID:692016-05-09
SUMMARY:May Monthly Meeting
DESCRIPTION:
URL:http://beachhaven.org.nz/index.php/events-list/copy-of-april-meeting-1?format=html
CATEGORIES:BBRA Monthly Meeting
GEO:-36.7927402;174.6873531
LOCATION:Beach Haven Hall
END:VEVENT
END:VCALENDAR