BEGIN:VCALENDAR
PRODID:-//Feedo Feed//NONSGML v1.0//EN
VERSION:2.0
CALSCALE:GREGORIAN
METHOD:PUBLISH
X-WR-CALNAME:February Monthly Meeting
X-WR-CALDESC:Our guest speakers at the Februrary meeting will be the buyers of the corner dairy site in Beach Haven. Grant Mirabito and Roland Doyle. They want to share with the community their plans for development of the site into a family-friendly bar and restaurant. Mike Marshall, the architect for the development, will also be at the meeting.
X-MS-OLK-FORCEINSPECTOROPEN:TRUE
BEGIN:VEVENT
DTSTAMP:20180120T155707Z
DTSTART:20170213T180000Z
DTEND:20170213T180000Z
TRANSP:TRANSPARENT
UID:722017-02-13
SUMMARY:February Monthly Meeting
DESCRIPTION:Our guest speakers at the Februrary meeting will be the buyers of the corner dairy site in Beach Haven. Grant Mirabito and Roland Doyle. They want to share with the community their plans for development of the site into a family-friendly bar and restaurant. Mike Marshall, the architect for the development, will also be at the meeting.
URL:http://beachhaven.org.nz/index.php/events-list/february-monthly-meeting?format=html
CATEGORIES:BBRA Monthly Meeting
GEO:-36.7927402;174.6873531
LOCATION:Beach Haven Hall
END:VEVENT
END:VCALENDAR