BEGIN:VCALENDAR
PRODID:-//Feedo Feed//NONSGML v1.0//EN
VERSION:2.0
CALSCALE:GREGORIAN
METHOD:PUBLISH
X-WR-CALNAME:2016 Beach Haven Birkdale Residents Association AGM
X-WR-CALDESC:Beach Haven Birkdale Residents Assn. Inc.\nNotice of the Annual General Meeting\nTo be held on Monday 14th March 2016 following a short monthly meeting of Assn. at 7.30pm.in the\nBeach Haven Hall, 336 Rangatira Road, Beach Haven\nAgenda\nWelcome by the President\nApologies\nReading and confirmation of 2015 AGM. Minutes.\nMatters arising from these minutes.\nPresidents Report and adoption\nTreasurer Financial Accounts for 2015 and Report for adoption.\nAppointment of Audit for 2015 Accounts\nSubscription for 2016/17\nElection of Office Bearers\n1 Patron\n2 President\n3 Vice- President\n4 Secretary\n5 Treasurer\n6 Committee (2)\nGeneral Business\nMeeting Closed\nA light supper will then be served.
X-MS-OLK-FORCEINSPECTOROPEN:TRUE
BEGIN:VEVENT
DTSTAMP:20180120T155958Z
DTSTART:20160314T183000Z
DTEND:20160314T183000Z
TRANSP:TRANSPARENT
UID:662016-03-14
SUMMARY:2016 Beach Haven Birkdale Residents Association AGM
DESCRIPTION:Beach Haven Birkdale Residents Assn. Inc.\nNotice of the Annual General Meeting\nTo be held on Monday 14th March 2016 following a short monthly meeting of Assn. at 7.30pm.in the\nBeach Haven Hall, 336 Rangatira Road, Beach Haven\nAgenda\nWelcome by the President\nApologies\nReading and confirmation of 2015 AGM. Minutes.\nMatters arising from these minutes.\nPresidents Report and adoption\nTreasurer Financial Accounts for 2015 and Report for adoption.\nAppointment of Audit for 2015 Accounts\nSubscription for 2016/17\nElection of Office Bearers\n1 Patron\n2 President\n3 Vice- President\n4 Secretary\n5 Treasurer\n6 Committee (2)\nGeneral Business\nMeeting Closed\nA light supper will then be served.
URL:http://beachhaven.org.nz/index.php/events-list/2016-bbra-agm?format=html
CATEGORIES:BBRA Monthly Meeting
GEO:-36.7927402;174.6873531
LOCATION:Beach Haven Hall
END:VEVENT
END:VCALENDAR