BEGIN:VCALENDAR
PRODID:-//Feedo Feed//NONSGML v1.0//EN
VERSION:2.0
CALSCALE:GREGORIAN
METHOD:PUBLISH
X-WR-CALNAME:2017 Beach Haven Birkdale Residents Association AGM
X-WR-CALDESC:
X-MS-OLK-FORCEINSPECTOROPEN:TRUE
BEGIN:VEVENT
DTSTAMP:20180120T160011Z
DTSTART:20170313T180000Z
DTEND:20170313T180000Z
TRANSP:TRANSPARENT
UID:752017-03-13
SUMMARY:2017 Beach Haven Birkdale Residents Association AGM
DESCRIPTION:
URL:http://beachhaven.org.nz/index.php/events-list/2017-beach-haven-birkdale-residents-association-agm?format=html
CATEGORIES:BBRA AGM
GEO:-36.7927402;174.6873531
LOCATION:Beach Haven Hall
END:VEVENT
END:VCALENDAR