BEGIN:VCALENDAR
PRODID:-//Feedo Feed//NONSGML v1.0//EN
VERSION:2.0
CALSCALE:GREGORIAN
METHOD:PUBLISH
X-WR-CALNAME:2017 Photo Competition Entries Close
X-WR-CALDESC:
X-MS-OLK-FORCEINSPECTOROPEN:TRUE
BEGIN:VEVENT
DTSTAMP:20180120T160009Z
DTSTART:20170312T224500Z
DTEND:20170312T224500Z
TRANSP:TRANSPARENT
UID:832017-03-12
SUMMARY:2017 Photo Competition Entries Close
DESCRIPTION:
URL:http://beachhaven.org.nz/index.php/events-list/bbra-photo-competition-entries-close?format=html
CATEGORIES:Community Event
GEO:
LOCATION:
END:VEVENT
END:VCALENDAR